BEGIN:VCALENDAR
VERSION:2.0
PRODID:-//Wild Lakenham - ECPv6.15.20//NONSGML v1.0//EN
CALSCALE:GREGORIAN
METHOD:PUBLISH
X-ORIGINAL-URL:https://wildlakenham.org.uk
X-WR-CALDESC:Events for Wild Lakenham
REFRESH-INTERVAL;VALUE=DURATION:PT1H
X-Robots-Tag:noindex
X-PUBLISHED-TTL:PT1H
BEGIN:VTIMEZONE
TZID:Europe/London
BEGIN:DAYLIGHT
TZOFFSETFROM:+0000
TZOFFSETTO:+0100
TZNAME:BST
DTSTART:20250330T010000
END:DAYLIGHT
BEGIN:STANDARD
TZOFFSETFROM:+0100
TZOFFSETTO:+0000
TZNAME:GMT
DTSTART:20251026T010000
END:STANDARD
BEGIN:DAYLIGHT
TZOFFSETFROM:+0000
TZOFFSETTO:+0100
TZNAME:BST
DTSTART:20260329T010000
END:DAYLIGHT
BEGIN:STANDARD
TZOFFSETFROM:+0100
TZOFFSETTO:+0000
TZNAME:GMT
DTSTART:20261025T010000
END:STANDARD
BEGIN:DAYLIGHT
TZOFFSETFROM:+0000
TZOFFSETTO:+0100
TZNAME:BST
DTSTART:20270328T010000
END:DAYLIGHT
BEGIN:STANDARD
TZOFFSETFROM:+0100
TZOFFSETTO:+0000
TZNAME:GMT
DTSTART:20271031T010000
END:STANDARD
END:VTIMEZONE
BEGIN:VEVENT
DTSTART;TZID=Europe/London:20260304T190000
DTEND;TZID=Europe/London:20260304T203000
DTSTAMP:20260422T095916
CREATED:20260203T223722Z
LAST-MODIFIED:20260203T223722Z
UID:213-1772650800-1772656200@wildlakenham.org.uk
SUMMARY:Wild Lakenham AGM and wildlife talk
DESCRIPTION:Wed 4th March 2026. 7pm – 8.30pm. \nDetails to follow\, but put the date and time in your diary! \n(Please note: this year we are holding our AGM in a new venue – the Harford Community Centre on Hall Road\, Norwich.)
URL:https://wildlakenham.org.uk/event/wild-lakenham-agm-and-wildlife-talk/
LOCATION:Harford Community Centre\, 10 The Lastings\, Hall Road\, Norwich\, NR4 6ET\, United Kingdom
END:VEVENT
END:VCALENDAR