BEGIN:VCALENDAR
VERSION:2.0
PRODID:-//Wild Lakenham - ECPv6.15.20//NONSGML v1.0//EN
CALSCALE:GREGORIAN
METHOD:PUBLISH
X-ORIGINAL-URL:https://wildlakenham.org.uk
X-WR-CALDESC:Events for Wild Lakenham
REFRESH-INTERVAL;VALUE=DURATION:PT1H
X-Robots-Tag:noindex
X-PUBLISHED-TTL:PT1H
BEGIN:VTIMEZONE
TZID:UTC
BEGIN:STANDARD
TZOFFSETFROM:+0000
TZOFFSETTO:+0000
TZNAME:UTC
DTSTART:20250101T000000
END:STANDARD
END:VTIMEZONE
BEGIN:VEVENT
DTSTART;TZID=UTC:20260104T153000
DTEND;TZID=UTC:20260104T173000
DTSTAMP:20260422T154357
CREATED:20251031T152731Z
LAST-MODIFIED:20251103T142550Z
UID:105-1767540600-1767547800@wildlakenham.org.uk
SUMMARY:Wassail !!
DESCRIPTION:Sun 4th Jan 2025. 3.30pm-5.30pm. Something to brighten up January…a bonfire\, storytelling\, singing\, twinkly lights and of course some home-made cake and biscuits! Join us!! \nNR1 2NS \nw3w location ///resist.city.wake \n 
URL:https://wildlakenham.org.uk/event/wassail/
LOCATION:Cooper Lane Orchard\, Cooper Lane\, NORWICH\, NR1 2NS\, United Kingdom
END:VEVENT
END:VCALENDAR